BEGIN:VCALENDAR
VERSION:2.0
PRODID:-//Grundschule im bunten Dreieck - ECPv6.15.20//NONSGML v1.0//EN
CALSCALE:GREGORIAN
METHOD:PUBLISH
X-WR-CALNAME:Grundschule im bunten Dreieck
X-ORIGINAL-URL:https://gs-imbuntendreieck.de
X-WR-CALDESC:Veranstaltungen für Grundschule im bunten Dreieck
REFRESH-INTERVAL;VALUE=DURATION:PT1H
X-Robots-Tag:noindex
X-PUBLISHED-TTL:PT1H
BEGIN:VTIMEZONE
TZID:Europe/Berlin
BEGIN:DAYLIGHT
TZOFFSETFROM:+0100
TZOFFSETTO:+0200
TZNAME:CEST
DTSTART:20220327T010000
END:DAYLIGHT
BEGIN:STANDARD
TZOFFSETFROM:+0200
TZOFFSETTO:+0100
TZNAME:CET
DTSTART:20221030T010000
END:STANDARD
BEGIN:DAYLIGHT
TZOFFSETFROM:+0100
TZOFFSETTO:+0200
TZNAME:CEST
DTSTART:20230326T010000
END:DAYLIGHT
BEGIN:STANDARD
TZOFFSETFROM:+0200
TZOFFSETTO:+0100
TZNAME:CET
DTSTART:20231029T010000
END:STANDARD
BEGIN:DAYLIGHT
TZOFFSETFROM:+0100
TZOFFSETTO:+0200
TZNAME:CEST
DTSTART:20240331T010000
END:DAYLIGHT
BEGIN:STANDARD
TZOFFSETFROM:+0200
TZOFFSETTO:+0100
TZNAME:CET
DTSTART:20241027T010000
END:STANDARD
END:VTIMEZONE
BEGIN:VEVENT
DTSTART;VALUE=DATE:20230201
DTEND;VALUE=DATE:20230202
DTSTAMP:20260421T143401
CREATED:20221104T074734Z
LAST-MODIFIED:20221104T074734Z
UID:6010-1675209600-1675295999@gs-imbuntendreieck.de
SUMMARY:Erster Schultag nach den Zeugnisferien
DESCRIPTION:
URL:https://gs-imbuntendreieck.de/event/erster-schultag-nach-den-zeugnisferien
END:VEVENT
BEGIN:VEVENT
DTSTART;TZID=Europe/Berlin:20230206T073000
DTEND;TZID=Europe/Berlin:20230208T080000
DTSTAMP:20260421T143401
CREATED:20221104T074822Z
LAST-MODIFIED:20221104T074822Z
UID:6012-1675668600-1675843200@gs-imbuntendreieck.de
SUMMARY:Verkehrsaktions-Tage des Schulelternrats
DESCRIPTION:
URL:https://gs-imbuntendreieck.de/event/verkehrsaktions-tage-des-schulelternrats
END:VEVENT
BEGIN:VEVENT
DTSTART;TZID=Europe/Berlin:20230216T190000
DTEND;TZID=Europe/Berlin:20230216T200000
DTSTAMP:20260421T143401
CREATED:20230210T132823Z
LAST-MODIFIED:20230210T133047Z
UID:6080-1676574000-1676577600@gs-imbuntendreieck.de
SUMMARY:Info-Elternabend zur Einschulung 2023 per Videokonferenz (Link über die Kitas verteilt\, bei Bedarf per Email unter sekretariat@gs-imbuntendreieck.de anfordern)
DESCRIPTION:
URL:https://gs-imbuntendreieck.de/event/info-elternabend-zur-einschulung-2023-per-videokonferenz-link-ueber-die-kitas-bei-bedarf-per-email-unter-sekretariatgs-imbuntendreieck-de-anfordern
END:VEVENT
END:VCALENDAR