BEGIN:VCALENDAR
VERSION:2.0
PRODID:-//Grundschule im bunten Dreieck - ECPv6.15.20//NONSGML v1.0//EN
CALSCALE:GREGORIAN
METHOD:PUBLISH
X-ORIGINAL-URL:https://gs-imbuntendreieck.de
X-WR-CALDESC:Veranstaltungen für Grundschule im bunten Dreieck
REFRESH-INTERVAL;VALUE=DURATION:PT1H
X-Robots-Tag:noindex
X-PUBLISHED-TTL:PT1H
BEGIN:VTIMEZONE
TZID:Europe/Berlin
BEGIN:DAYLIGHT
TZOFFSETFROM:+0100
TZOFFSETTO:+0200
TZNAME:CEST
DTSTART:20210328T010000
END:DAYLIGHT
BEGIN:STANDARD
TZOFFSETFROM:+0200
TZOFFSETTO:+0100
TZNAME:CET
DTSTART:20211031T010000
END:STANDARD
BEGIN:DAYLIGHT
TZOFFSETFROM:+0100
TZOFFSETTO:+0200
TZNAME:CEST
DTSTART:20220327T010000
END:DAYLIGHT
BEGIN:STANDARD
TZOFFSETFROM:+0200
TZOFFSETTO:+0100
TZNAME:CET
DTSTART:20221030T010000
END:STANDARD
BEGIN:DAYLIGHT
TZOFFSETFROM:+0100
TZOFFSETTO:+0200
TZNAME:CEST
DTSTART:20230326T010000
END:DAYLIGHT
BEGIN:STANDARD
TZOFFSETFROM:+0200
TZOFFSETTO:+0100
TZNAME:CET
DTSTART:20231029T010000
END:STANDARD
END:VTIMEZONE
BEGIN:VEVENT
DTSTART;VALUE=DATE:20221206
DTEND;VALUE=DATE:20221207
DTSTAMP:20260423T133116
CREATED:20220722T114729Z
LAST-MODIFIED:20220722T114800Z
UID:5971-1670284800-1670371199@gs-imbuntendreieck.de
SUMMARY:Fahrt der 3. und 4. Klassen ins Weihnachtsmärchen "Der Zauberer von Oz"
DESCRIPTION:
URL:https://gs-imbuntendreieck.de/event/fahrt-der-3-und-4-klassen-ins-weihnachtsmaerchen-der-zauberer-von-oz
END:VEVENT
BEGIN:VEVENT
DTSTART;VALUE=DATE:20221219
DTEND;VALUE=DATE:20221220
DTSTAMP:20260423T133116
CREATED:20220722T114637Z
LAST-MODIFIED:20220722T114835Z
UID:5969-1671408000-1671494399@gs-imbuntendreieck.de
SUMMARY:Fahrt der 1. und 2. Klassen ins Weihnachtsmärchen "Die Kleine Hexe"
DESCRIPTION:
URL:https://gs-imbuntendreieck.de/event/fahrt-der-1-und-2-klassen-ins-weihnachtsmaerchen-die-kleine-hexe
END:VEVENT
BEGIN:VEVENT
DTSTART;VALUE=DATE:20221222
DTEND;VALUE=DATE:20221223
DTSTAMP:20260423T133116
CREATED:20221104T074338Z
LAST-MODIFIED:20221104T074338Z
UID:6002-1671667200-1671753599@gs-imbuntendreieck.de
SUMMARY:Letzter Schultag vor Weihnachten
DESCRIPTION:
URL:https://gs-imbuntendreieck.de/event/letzter-schultag-vor-weihnachten
END:VEVENT
END:VCALENDAR